BEGIN:VCALENDAR
VERSION:2.0
PRODID:icalendar-ruby
CALSCALE:GREGORIAN
METHOD:PUBLISH
BEGIN:VEVENT
DTSTAMP:20260422T194136Z
UID:84-1039485@messiahlutheranmqt.org
DTSTART:20261030T130000Z
DTEND:20261030T140000Z
CLASS:PUBLIC
CREATED:20260422T125313
DESCRIPTION:
LAST-MODIFIED:20260422T125313
LOCATION:Room 202
SUMMARY:Senior Men's Bible Study
URL;VALUE=URI:https://www.messiahlutheranmqt.org/events/senior-mens-bible-s
 tudy/2026-10-30
ATTACH;FILENAME=HerbLeadingBibleStudy.png;FMTTYPE=image/png:https://dq5pwpg
 1q8ru0.cloudfront.net/2025/06/30/17/07/43/102dd97d-7ac2-4328-9d67-da2302c2
 7a82/HerbLeadingBibleStudy.png
END:VEVENT
END:VCALENDAR
